BEGIN:VCALENDAR
VERSION:2.0
PRODID:-//chikkutakku.com//RDFCal 1.0//EN
X-WR-CALDESC:GoogleカレンダーやiCalendar形式情報を共有シェ
 アしましょう。近所のイベントから全国のイベントま
 で今日のイベント検索やスケジュールを決めるならち
 っくたっく
X-WR-CALNAME:ちっくたっく
X-WR-TIMEZONE:UTC
BEGIN:VEVENT
SUMMARY:11:00FATE PIECE LAND
DTSTART;VALUE=DATE:20260424
DTEND;VALUE=DATE:20260425
UID:305386960080
DESCRIPTION:11:00-16:30📢ライブ情報📢4/25(土)📍スパワール
 ド外 特設ステージ『FATE PIECE LAND』open 10:45/start 11:00観覧
 無料！ /優先エリア1\,000円/カメラ撮影券1\,000円Arch Angel/
 i Moon/KiMiNiAiTAi/わんだふるxぱにっく/Squall Line/Voyage/七瀬
 いろは
LOCATION:
END:VEVENT
END:VCALENDAR
