BEGIN:VCALENDAR
VERSION:2.0
PRODID:-//chikkutakku.com//RDFCal 1.0//EN
X-WR-CALDESC:GoogleカレンダーやiCalendar形式情報を共有シェ
 アしましょう。近所のイベントから全国のイベントま
 で今日のイベント検索やスケジュールを決めるならち
 っくたっく
X-WR-CALNAME:ちっくたっく
X-WR-TIMEZONE:UTC
BEGIN:VEVENT
SUMMARY:PE Lessons - Hockey Yr 3-6
DTSTART;VALUE=DATE-TIME:20260420T140000Z
DTEND;VALUE=DATE-TIME:20260518T140000Z
UID:305540741762
DESCRIPTION:PE Lessons - Hockey Yr 3-6
LOCATION:Holy Family Catholic Primary School\, 40 Isabella Dr\, Skennars H
 ead NSW 2478\, Australia
END:VEVENT
END:VCALENDAR
