BEGIN:VCALENDAR
VERSION:2.0
PRODID:-//chikkutakku.com//RDFCal 1.0//EN
X-WR-CALDESC:GoogleカレンダーやiCalendar形式情報を共有シェ
 アしましょう。近所のイベントから全国のイベントま
 で今日のイベント検索やスケジュールを決めるならち
 っくたっく
X-WR-CALNAME:ちっくたっく
X-WR-TIMEZONE:UTC
BEGIN:VEVENT
SUMMARY:【Android 対応】ミントちゃんとゲーム部
DTSTART;VALUE=DATE-TIME:20260424T130000Z
DTEND;VALUE=DATE-TIME:20260424T145900Z
UID:305545060512
DESCRIPTION:【イベント主催者】\n　ぞこみん/ドドンパビ
 ーム\n【イベント内容】\n　24日22時からミントちゃんと
 ゲーム部を開催します。\n【ミントちゃんでなくても参
 加出来ます】\n気になっているゲームワールドが有りま
 したらｘの方にリプを送ってください～\nリンク先↓\nh
 ttps˸⁄⁄x․com⁄Mintchan_Game\n\n当日はわいわい楽しんで
 行きましょうー\nSNS #ミントとゲーム部\n【イベントジ
 ャンル】\n　ロールプレイ\, 初心者向けイベント\, 定期
 イベント\n【参加条件（モデル、人数制限など）】\n　
 クリーンなアバターで、\npoor以下だったら嬉しいです
 、\nミントちゃんだったらミントちゃんユーザーが喜び
 ます‼️\n【参加方法】\n　ttps://vrc.group/MINT.5815 に登録
 してゲームスタートです\n【備考】\n　告知ｘ: https://twi
 tter.com/Mintchan_Game\n主催ぞこみんのｘ: https://twitter.com/vyzo
 com\nドドンパビームのX: https://x.com/dodonn625
LOCATION:
END:VEVENT
END:VCALENDAR
