BEGIN:VCALENDAR
VERSION:2.0
PRODID:-//chikkutakku.com//RDFCal 1.0//EN
X-WR-CALDESC:GoogleカレンダーやiCalendar形式情報を共有シェ
 アしましょう。近所のイベントから全国のイベントま
 で今日のイベント検索やスケジュールを決めるならち
 っくたっく
X-WR-CALNAME:ちっくたっく
X-WR-TIMEZONE:UTC
BEGIN:VEVENT
SUMMARY:写真撮る人撮られる人集会【VRChat記憶部】
DTSTART;VALUE=DATE-TIME:20260423T120000Z
DTEND;VALUE=DATE-TIME:20260423T133000Z
UID:305663086388
DESCRIPTION:【イベント主催者】\n　メヒティス\n【イベン
 ト内容】\n　VRやリアルで写真を撮る人と撮られる人が
 集まる団体です。撮影した写真は #VRChat記憶部 という
 タグでTwitterにアップします。\nVRChat記憶部は"誰かの記
 憶に残る１枚を追い求めて"VRとリアル双方で活動する
 写真撮影団体です。\nカメラを触ったことがない、まっ
 たくの初心者から撮影はお手の物な上級者の方まで写
 真が好きなら誰でも参加可能！?\n\n【イベントジャンル
 】\n　その他交流会\, 初心者向けイベント\, 定期イベン
 ト\n【参加条件（モデル、人数制限など）】\n　写真が
 好きな方なら誰でもOK\n【参加方法】\n　事前に「#VRChat
 記憶部」のグループへ加入～時間になったらJOIN（イン
 スタンスオープン20:55予定）\n\n【備考】\n　下記告知ツ
 イート(RT大歓迎)※ツリーに詳細が続いてます。\nhttps://
 x.com/VRC_kiokubu/status/2046039756795249048?s=20
LOCATION:
END:VEVENT
END:VCALENDAR
