BEGIN:VCALENDAR
VERSION:2.0
PRODID:-//chikkutakku.com//RDFCal 1.0//EN
X-WR-CALDESC:GoogleカレンダーやiCalendar形式情報を共有シェ
 アしましょう。近所のイベントから全国のイベントま
 で今日のイベント検索やスケジュールを決めるならち
 っくたっく
X-WR-CALNAME:ちっくたっく
X-WR-TIMEZONE:UTC
BEGIN:VEVENT
SUMMARY:仮想中央競馬会　地方交流レース会
DTSTART;VALUE=DATE-TIME:20260423T130000Z
DTEND;VALUE=DATE-TIME:20260423T140000Z
UID:306002753906
DESCRIPTION:【イベント主催者】\n　えーすけ。A_S_K\n【イ
 ベント内容】\n　VRChatでVR競馬をするイベントグループ
 です！\n競馬ができるゲームワールドで、馬を生産し、
 レースを行い、馬券で遊んでいます！\n平日は交流会と
 して、自由にレースを組んで走っています。\n初心者で
 も、当会の実行委員が馬の乗り方、レースの仕方を教
 えます！\n定期インスタンス木曜日は22時スタートです
 。\n定期インスタンスが無い日でも、馬主様が自由にグ
 ループインスタンスを立てて遊んでいます！\n\n週末に
 デカいレース会を行うためのグループです！\n週末のイ
 ベントレース会だけでも参加OK！\n\n【イベントジャン
 ル】\n　その他交流会\n【参加条件（モデル、人数制限
 など）】\n　Android非対応です\n【参加方法】\n　グルー
 プのインスタンスにjoin\n【備考】\n　
LOCATION:
END:VEVENT
END:VCALENDAR
