BEGIN:VCALENDAR
VERSION:2.0
PRODID:-//chikkutakku.com//RDFCal 1.0//EN
X-WR-CALDESC:GoogleカレンダーやiCalendar形式情報を共有シェ
 アしましょう。近所のイベントから全国のイベントま
 で今日のイベント検索やスケジュールを決めるならち
 っくたっく
X-WR-CALNAME:ちっくたっく
X-WR-TIMEZONE:UTC
BEGIN:VEVENT
SUMMARY:【定期】VRCくりえいてぃ部　ワンドロ企画
DTSTART;VALUE=DATE-TIME:20260423T123000Z
DTEND;VALUE=DATE-TIME:20260423T140000Z
UID:306263701887
DESCRIPTION:【イベント主催者】\n　VRCくりえいてぃ部\n【
 イベント内容】\n　VRCくりえいてぃ部ワールドで一緒に
 ワンドロ企画を行うイベントです。\n\n◆ワンドロとは\
 n　1時間の間に一斉に同一テーマの描き下ろしを行い、
 終了後に投稿をする企画です。\n　下書きなどの事前準
 備なしの1時間一発勝負のイラスト企画です。\n\n　時間
 終了後は共通のハッシュタグ「#VRCくりえいてぃ部_1hdraw
 」をつけて\n　X(Twitter)や可能な方はpixivの方にも投稿を
 お願いします。\n\n◆参加方法\n　グループに参加し、
 グループ＋のワンドロ専用インスタンスに参加\n\n詳細
 は専用インスタンス内でご説明します。\n【イベントジ
 ャンル】\n　その他交流会\, 定期イベント\n【参加条件
 （モデル、人数制限など）】\n　グループ参加\n【参加
 方法】\n　グループ＋のワンドロ専用インスタンスに参
 加\n【備考】\n　
LOCATION:
END:VEVENT
END:VCALENDAR
