BEGIN:VCALENDAR
VERSION:2.0
PRODID:-//chikkutakku.com//RDFCal 1.0//EN
X-WR-CALDESC:GoogleカレンダーやiCalendar形式情報を共有シェ
 アしましょう。近所のイベントから全国のイベントま
 で今日のイベント検索やスケジュールを決めるならち
 っくたっく
X-WR-CALNAME:ちっくたっく
X-WR-TIMEZONE:UTC
BEGIN:VEVENT
SUMMARY:NIGHT Jun K LIVE vol.4 ～HIT SONGS / J-POP COVERS～
DTSTART;VALUE=DATE:20260424
DTEND;VALUE=DATE:20260425
UID:306674938691
DESCRIPTION:NIGHT Jun K LIVE vol.4\n～HIT SONGS / J-POP COVERS～\nOPEN 1
 7:00\nSTART 17:30\n￥2\,600 ( 1 drink 込み)\n \n【出演】\n今だ
 け林檎\n緑黄色野菜\nSUGAR\nフジコロータス\nZAKKOKU
LOCATION:
END:VEVENT
END:VCALENDAR
