BEGIN:VCALENDAR
VERSION:2.0
PRODID:-//chikkutakku.com//RDFCal 1.0//EN
X-WR-CALDESC:GoogleカレンダーやiCalendar形式情報を共有シェ
 アしましょう。近所のイベントから全国のイベントま
 で今日のイベント検索やスケジュールを決めるならち
 っくたっく
X-WR-CALNAME:ちっくたっく
X-WR-TIMEZONE:UTC
BEGIN:VEVENT
SUMMARY:【註課】(4/22~4/24) 轉系、輔系、雙主修考試。
DTSTART;VALUE=DATE:20260421
DTEND;VALUE=DATE:20260424
UID:307601110629
DESCRIPTION:【註課】(4/22~4/24) 轉系、輔系、雙主修考試。
LOCATION:
END:VEVENT
END:VCALENDAR
