BEGIN:VCALENDAR
VERSION:2.0
PRODID:-//chikkutakku.com//RDFCal 1.0//EN
X-WR-CALDESC:GoogleカレンダーやiCalendar形式情報を共有シェ
 アしましょう。近所のイベントから全国のイベントま
 で今日のイベント検索やスケジュールを決めるならち
 っくたっく
X-WR-CALNAME:ちっくたっく
X-WR-TIMEZONE:UTC
BEGIN:VEVENT
SUMMARY:弾き語りLive＆Music【Barまさのり】
DTSTART;VALUE=DATE-TIME:20260425T124500Z
DTEND;VALUE=DATE-TIME:20260425T143000Z
UID:308219914017
DESCRIPTION:【イベント主催者】\n　まさのり\n【イベント
 内容】\n　Barまさのり主催\n第4回音楽ＬＩＶＥイベント
 の詳細お伝えいたします。\n4月25日（土）21時45分開場
 　\n　　　　　　　22時00分ST　23時30分CL\n【出演者】\n21
 :45-22:05   15-20分    O.A.BeatNexus\n22:10-22:30   15-20分　アンカ
 ー&べるきゃっと\n22:30-22:50   15-20分　czs2\n22:50-23:10   15-20
 分　-かゆき-\n23:10-23:30   15-20分　kuha3\n【イベントジャ
 ンル】\n　音楽系イベント\, 初心者向けイベント\, 定期
 イベント\n【参加条件（モデル、人数制限など）】\n　
 軽いアバターで来てください！！\n【参加方法】\n　イ
 ンスタンス：Barまさのりグループ+\nhttps://vrc.group/BARMS.09
 49\n【備考】\n　
LOCATION:
END:VEVENT
END:VCALENDAR
