BEGIN:VCALENDAR
VERSION:2.0
PRODID:-//chikkutakku.com//RDFCal 1.0//EN
X-WR-CALDESC:GoogleカレンダーやiCalendar形式情報を共有シェ
 アしましょう。近所のイベントから全国のイベントま
 で今日のイベント検索やスケジュールを決めるならち
 っくたっく
X-WR-CALNAME:ちっくたっく
X-WR-TIMEZONE:UTC
BEGIN:VEVENT
SUMMARY:【注】転生貴族の異世界冒険録～自重を知らない
 神々の使徒～ #1 転生しちゃいました / #2 家庭教師は冒
 険者 / #3 いざ王都へ / #4 王都お披露目会 / #5 やりすぎ
 屋敷へようこそ / #6 最強騎士団長との決闘(デート) / #7 
 新人冒険者カイン / #8 王立学園 / #9 修行 / #10 Aランク冒
 険者の試練 / #11 氾濫の予兆 / #12 そして領主になる
DTSTART;VALUE=DATE-TIME:20260420T230000Z
DTEND;VALUE=DATE-TIME:20260421T050000Z
UID:308427156518
DESCRIPTION: / #1 転生しちゃいました / #2 家庭教師は冒険
 者 / #3 いざ王都へ / #4 王都お披露目会 / #5 やりすぎ屋
 敷へようこそ / #6 最強騎士団長との決闘(デート) / #7 新
 人冒険者カイン / #8 王立学園 / #9 修行 / #10 Aランク冒険
 者の試練 / #11 氾濫の予兆 / #12 そして領主になる / https:
 //abema.tv/channels/isekai-anime/slots/AkN7ZSMoVb9Fp3 (無料TS1週間) 
 ※リピート放送なし
LOCATION:異世界ファンタジー
END:VEVENT
END:VCALENDAR
