BEGIN:VCALENDAR
VERSION:2.0
PRODID:-//chikkutakku.com//RDFCal 1.0//EN
X-WR-CALDESC:GoogleカレンダーやiCalendar形式情報を共有シェ
 アしましょう。近所のイベントから全国のイベントま
 で今日のイベント検索やスケジュールを決めるならち
 っくたっく
X-WR-CALNAME:ちっくたっく
X-WR-TIMEZONE:UTC
BEGIN:VEVENT
SUMMARY:02/23 ~ 05/12 技高三年級課程學習成果教師認證起訖
 時間
DTSTART;VALUE=DATE:20260222
DTEND;VALUE=DATE:20260512
UID:308814451140
DESCRIPTION:02/23 ~ 05/12 技高三年級課程學習成果教師認證起
 訖時間
LOCATION:
END:VEVENT
END:VCALENDAR
