BEGIN:VCALENDAR
VERSION:2.0
PRODID:-//chikkutakku.com//RDFCal 1.0//EN
X-WR-CALDESC:GoogleカレンダーやiCalendar形式情報を共有シェ
 アしましょう。近所のイベントから全国のイベントま
 で今日のイベント検索やスケジュールを決めるならち
 っくたっく
X-WR-CALNAME:ちっくたっく
X-WR-TIMEZONE:UTC
BEGIN:VEVENT
SUMMARY:11:00Ms.OOJA
DTSTART;VALUE=DATE:20260424
DTEND;VALUE=DATE:20260425
UID:309157658208
DESCRIPTION:4月25日(土)Ms.OOJA「Ms.ENKA 〜OOJAの演歌〜」リリ
 ースイベント日程2026年4月25日（土）[1部]11:00～、[2部]15
 :00～＜4月25日（土）大阪府　あべのキューズモール3F 
 スカイコート＞日程：2026年4月25日（土）1部イベント開
 始時間：11:00　／　優先入場集合時間：10:452部イベント
 開始時間：15:00　／　優先入場集合時間：14:45CD販売開
 始時間：10:05 ※当日の状況により前後する場合がござ
 います。CD販売場所：あべのキューズモール【イベント
 内容】ミニライブ　＋　特典会
LOCATION:
END:VEVENT
END:VCALENDAR
