BEGIN:VCALENDAR
VERSION:2.0
PRODID:-//chikkutakku.com//RDFCal 1.0//EN
X-WR-CALDESC:GoogleカレンダーやiCalendar形式情報を共有シェ
 アしましょう。近所のイベントから全国のイベントま
 で今日のイベント検索やスケジュールを決めるならち
 っくたっく
X-WR-CALNAME:ちっくたっく
X-WR-TIMEZONE:UTC
BEGIN:VEVENT
SUMMARY:資源班及家服科同學醒吾科技大學一日大學校外參
 觀
DTSTART;VALUE=DATE:20260421
DTEND;VALUE=DATE:20260422
UID:309278729908
DESCRIPTION:資源班及家服科同學醒吾科技大學一日大學校
 外參觀
LOCATION:
END:VEVENT
END:VCALENDAR
