BEGIN:VCALENDAR
VERSION:2.0
PRODID:-//chikkutakku.com//RDFCal 1.0//EN
X-WR-CALDESC:GoogleカレンダーやiCalendar形式情報を共有シェ
 アしましょう。近所のイベントから全国のイベントま
 で今日のイベント検索やスケジュールを決めるならち
 っくたっく
X-WR-CALNAME:ちっくたっく
X-WR-TIMEZONE:UTC
BEGIN:VEVENT
SUMMARY:美國S商視訊洽談_咖啡(指定廠商)
DTSTART;VALUE=DATE-TIME:20260421T010000Z
DTEND;VALUE=DATE-TIME:20260421T020000Z
UID:309366987432
DESCRIPTION:美國S商視訊洽談_咖啡(指定廠商)
LOCATION:
END:VEVENT
END:VCALENDAR
