BEGIN:VCALENDAR
VERSION:2.0
PRODID:-//chikkutakku.com//RDFCal 1.0//EN
X-WR-CALDESC:GoogleカレンダーやiCalendar形式情報を共有シェ
 アしましょう。近所のイベントから全国のイベントま
 で今日のイベント検索やスケジュールを決めるならち
 っくたっく
X-WR-CALNAME:ちっくたっく
X-WR-TIMEZONE:UTC
BEGIN:VEVENT
SUMMARY:📳 ขอเชิญเข้าร่วมการอบร
 ม หลักสูตรการซ้อมแผนฉุกเฉ
 ิน กรณีแผ่นดินไหว ประจำปี 25
 69  ข่าวประชาสัมพันธ์จาก : หน
 ่วยสิ่งแวดล้อมและอนุรักษ
 ์พลังงาน
DTSTART;VALUE=DATE-TIME:20260422T013000Z
DTEND;VALUE=DATE-TIME:20260422T093000Z
UID:309533287184
DESCRIPTION:📳 ขอเชิญเข้าร่วมการอบ
 รม\nหลักสูตรการซ้อมแผนฉุกเ
 ฉิน\nกรณีแผ่นดินไหว ประจำป
 ี 2569\n\nข่าวประชาสัมพันธ์จาก :
  หน่วยสิ่งแวดล้อมและอนุรั
 กษ์พลังงาน\n\n⏰ วันเวลาที่เร
 ิ่มงาน : 22 เมษายน 2569 เวลา 08.30 - 16.30
  น.\nเริ่มลงทะเบียนเวลา 8.30 น.\n
 📍 สถานที่ : ณ ห้องประชุมเทพ
 รัตนทันตกิจสโมสร ชั้น 4 อาค
 ารเฉลิมพระเกียรติ 50 พรรษา\n\n
 ❗ลงทะเบียนด่วน ภายในวันที
 ่ 26 มีนาคม 2569 : https://docs.google.com/forms/d/e/1FAIpQL
 Sd_f8T0QL66_98XO6sTSOHKcoI7_eP_FuGr9QvWqCpMqHZ8CQ/viewform\n\nกำหน
 ดการ : https://drive.google.com/file/d/13j82fVbb7Mf2GPpgAcw_Xackq-
 xHfL31/view\n\n☎️ ติดต่อสอบถาม : หน่ว
 ยสิ่งแวดล้อมและอนุรักษ์พ
 ลังงาน โทร. 02 200 7593\n\n***************\n\nคณะ
 ทันตแพทยศาสตร์ มหาวิทยาลั
 ยมหิดล\nจัดการอบรมแผ่นดินไ
 หว\n\nข่าวประชาสัมพันธ์จาก : 
 หน่วยสิ่งแวดล้อมและอนุรั
 กษ์พลังงาน\n\n⏰ วันเวลาที่เร
 ิ่มงาน : 22 เมษายน 2569 เวลา 8.30 - 16.30 
 น.\nเริ่มลงทะเบียนเวลา 8.30 น.\n
 📍 สถานที่ : ณ ห้องประชุมเทพ
 รัตนทันตกิจสโมสร ชั้น 4\nอาค
 ารเฉลิมพระเกียรติ 50 พรรษา
LOCATION:ณ ห้องประชุมเทพรัตนทัน
 ตกิจสโมสร ชั้น 4 อาคารเฉลิม
 พระเกียรติ 50 พรรษา
END:VEVENT
END:VCALENDAR
