BEGIN:VCALENDAR
VERSION:2.0
PRODID:-//chikkutakku.com//RDFCal 1.0//EN
X-WR-CALDESC:GoogleカレンダーやiCalendar形式情報を共有シェ
 アしましょう。近所のイベントから全国のイベントま
 で今日のイベント検索やスケジュールを決めるならち
 っくたっく
X-WR-CALNAME:ちっくたっく
X-WR-TIMEZONE:UTC
BEGIN:VEVENT
SUMMARY:もふもふらんどNavyblue
DTSTART;VALUE=DATE-TIME:20260423T130000Z
DTEND;VALUE=DATE-TIME:20260423T140000Z
UID:309769625879
DESCRIPTION:【イベント主催者】\n　獅子堂つかさ\n【イベ
 ント内容】\n　もふもふと海をコンセプトにした1体1接
 客イベント\n海をモチーフにした落ち着いた空間で、\n
 もふもふな衣装のキャストと1対1の癒しのひととき。\n
 隔週木曜日22時～23時\n【イベントジャンル】\n　店舗系
 イベント\, 初心者向けイベント\, 定期イベント\n【参加
 条件（モデル、人数制限など）】\n　版権アバターでの
 参加はご遠慮ください\n【参加方法】\n　グループへの
 加入　https://vrchat.com/home/group/grp_4a35f88c-c8f4-4701-8c86-7886a62
 34d11\n【備考】\n　https://x.com/NBMofuLand
LOCATION:
END:VEVENT
END:VCALENDAR
