BEGIN:VCALENDAR
VERSION:2.0
PRODID:-//chikkutakku.com//RDFCal 1.0//EN
X-WR-CALDESC:GoogleカレンダーやiCalendar形式情報を共有シェ
 アしましょう。近所のイベントから全国のイベントま
 で今日のイベント検索やスケジュールを決めるならち
 っくたっく
X-WR-CALNAME:ちっくたっく
X-WR-TIMEZONE:UTC
BEGIN:VEVENT
SUMMARY:冒険者の治療を始めたら、獣人の番に捕まりまし
 た 〜出会って2日で即求婚！？ 超美形の王子様からの
 溺愛は想定外です！〜（1）
DTSTART;VALUE=DATE:20260519
DTEND;VALUE=DATE:20260520
UID:310251618868
DESCRIPTION:2026-05-20冒険者の治療を始めたら、獣人の番に
 捕まりました 〜出会って2日で即求婚！？ 超美形の王
 子様からの溺愛は想定外です！〜（1）ゲーハー/北沢き
 ょうオーバーラップ
LOCATION:
END:VEVENT
END:VCALENDAR
