BEGIN:VCALENDAR
VERSION:2.0
PRODID:-//chikkutakku.com//RDFCal 1.0//EN
X-WR-CALDESC:GoogleカレンダーやiCalendar形式情報を共有シェ
 アしましょう。近所のイベントから全国のイベントま
 で今日のイベント検索やスケジュールを決めるならち
 っくたっく
X-WR-CALNAME:ちっくたっく
X-WR-TIMEZONE:UTC
BEGIN:VEVENT
SUMMARY:📺️【ABCテレビ】教えて！ニュースライブ 正義
 のミカタ
DTSTART;VALUE=DATE-TIME:20260425T003000Z
DTEND;VALUE=DATE-TIME:20260425T020000Z
UID:310660486051
DESCRIPTION:※松陰寺さんのみ\n※番組表に出演者の記載は
 ありませんが、FCスケジュールに基づき共有します。\n
  \nhttps://www.asahi.co.jp/mikata/\nhttps://bangumi.org/tv_events/seasons
 ?season_id=167384
LOCATION:
END:VEVENT
END:VCALENDAR
