BEGIN:VCALENDAR
VERSION:2.0
PRODID:-//chikkutakku.com//RDFCal 1.0//EN
X-WR-CALDESC:GoogleカレンダーやiCalendar形式情報を共有シェ
 アしましょう。近所のイベントから全国のイベントま
 で今日のイベント検索やスケジュールを決めるならち
 っくたっく
X-WR-CALNAME:ちっくたっく
X-WR-TIMEZONE:UTC
BEGIN:VEVENT
SUMMARY:【Android 対応】Club Moon Hopper 1st Anniversary DAY2
DTSTART;VALUE=DATE-TIME:20260419T115000Z
DTEND;VALUE=DATE-TIME:20260419T160000Z
UID:310910252020
DESCRIPTION:【イベント主催者】\n　Gira-Choco \, RURI_niki\n【
 イベント内容】\n　此処は月の労働者を運ぶ宇宙船․․
 ․ 音楽を聴いた ＂共鳴結晶＂ は動力を生み、月曜を
 迎えるべく加速する。\n\nDJイベント ＂Club Moon Hopper＂ \n
 毎週日曜 22˸50～25˸00 運行\n\nイベントの感想等は以下
 のハッシュタグを付けてポストして頂けますと幸いで
 す。\n＃CMH_VRC\n\n※イベント開始演出をご用意しており
 ますので、是非DJ開始10分前にインスタンスにお越し下
 さい。\n　また、配信サービス等のトラブルにより開始
 時間に遅れが発生する可能性がございます。\n\nTimeTable 
  \nDJ\n21:00- VLADIMIR\n21:30- MIZE_ST \n22:00- coffee_trip\n22:30- MUI2IS
  vs ？？？\n23:00- Rose\n23:30- RURI_niki\n24:00- SORA SUMITERA\n24:30-
  YATSUAN\nVJ\n21:00- _Ryou_\n23:00- Aoiro\n\n【イベント中の注意
 事項】\n・配信、録画、録音の禁止（写真撮影は可）\n
 ・過度なパーティクル、荒らし行為の禁止\n・他のお客
 様の迷惑となる行為の禁止\n・公序良俗に反するアバタ
 ーの使用の禁止\n【イベントジャンル】\n　音楽系イベ
 ント\, ロールプレイ\, 定期イベント\n【参加条件（モデ
 ル、人数制限など）】\n　インスタンス上限70名\n【参
 加方法】\n　以下のURLからグループにご参加して下さい
 。\nhttps://vrc.group/CMH.9192\n22:50～23:00の間に開幕演出がご
 ざいますので、是非DJ開始10分前からお越し下さい！\n
 【備考】\n　おすすめコーディネート：ウサギ、宇宙服
 など\n主催のXアカウント：Gira-Choco（https://x.com/girachoco
 ）、RURI_niki（https://x.com/RURI_NIKI1111）
LOCATION:
END:VEVENT
END:VCALENDAR
