BEGIN:VCALENDAR
VERSION:2.0
PRODID:-//chikkutakku.com//RDFCal 1.0//EN
X-WR-CALDESC:GoogleカレンダーやiCalendar形式情報を共有シェ
 アしましょう。近所のイベントから全国のイベントま
 で今日のイベント検索やスケジュールを決めるならち
 っくたっく
X-WR-CALNAME:ちっくたっく
X-WR-TIMEZONE:UTC
BEGIN:VEVENT
SUMMARY:転生薬師は迷宮都市育ち（2）
DTSTART;VALUE=DATE:20260521
DTEND;VALUE=DATE:20260522
UID:312339993634
DESCRIPTION:2026-05-22転生薬師は迷宮都市育ち（2）かず＠神
 戸トア/蛍田 鉱山/とよた 瑣織講談社
LOCATION:
END:VEVENT
END:VCALENDAR
