BEGIN:VCALENDAR
VERSION:2.0
PRODID:-//chikkutakku.com//RDFCal 1.0//EN
X-WR-CALDESC:GoogleカレンダーやiCalendar形式情報を共有シェ
 アしましょう。近所のイベントから全国のイベントま
 で今日のイベント検索やスケジュールを決めるならち
 っくたっく
X-WR-CALNAME:ちっくたっく
X-WR-TIMEZONE:UTC
BEGIN:VEVENT
SUMMARY:【Android 対応】にわかガンダム集会第59回
DTSTART;VALUE=DATE-TIME:20260421T120000Z
DTEND;VALUE=DATE-TIME:20260421T130000Z
UID:312372069831
DESCRIPTION:【イベント主催者】\n　西田桜子（ニルコア）
 \n【イベント内容】\n　公式配信のターンエー（∀ガン
 ダム）39話「小惑星爆裂」を一緒に見ておしゃべりしま
 しょう。ロランが守ってきた核兵器を大勢の人を救う
 ために使う名場面です。閃ハサが初ガンダムの方も、
 レット隊のその後が気になるガノタの方も、来てくだ
 さい！\n【イベントジャンル】\n　その他交流会\, 初心
 者向けイベント\, 定期イベント\n【参加条件（モデル、
 人数制限など）】\n　動画を見るので、オプションの「
 快適性とセーフティ」の「信頼できないURLを許可する
 」をONにしてください。\n【参加方法】\n　にわかガン
 ダム集会のグループ（NWGN.7300）に加入、または「西田
 桜子 Sakurako」までフレンド申請の上、時間になったらJO
 INしてください。\n【備考】\n　『∀ガンダム』は、地
 球に移住しようとする月の民ムーンレイスと地球人の
 対立を描いたお話です。主人公のロランは月の先遣部
 隊でしたが、月と地球の架け橋になろうとします。
LOCATION:
END:VEVENT
END:VCALENDAR
