BEGIN:VCALENDAR
VERSION:2.0
PRODID:-//chikkutakku.com//RDFCal 1.0//EN
X-WR-CALDESC:GoogleカレンダーやiCalendar形式情報を共有シェ
 アしましょう。近所のイベントから全国のイベントま
 で今日のイベント検索やスケジュールを決めるならち
 っくたっく
X-WR-CALNAME:ちっくたっく
X-WR-TIMEZONE:UTC
BEGIN:VEVENT
SUMMARY:cyan issue 44 spring 2026 kotona minami
DTSTART;VALUE=DATE:20260426
DTEND;VALUE=DATE:20260427
UID:312487148798
DESCRIPTION:2026-04-27cyan issue 44 spring 2026 kotona minamicyan編集部
 カエルム
LOCATION:
END:VEVENT
END:VCALENDAR
