BEGIN:VCALENDAR
VERSION:2.0
PRODID:-//chikkutakku.com//RDFCal 1.0//EN
X-WR-CALDESC:GoogleカレンダーやiCalendar形式情報を共有シェ
 アしましょう。近所のイベントから全国のイベントま
 で今日のイベント検索やスケジュールを決めるならち
 っくたっく
X-WR-CALNAME:ちっくたっく
X-WR-TIMEZONE:UTC
BEGIN:VEVENT
SUMMARY:超弩級チート悪役令嬢の華麗なる復讐譚（9）
DTSTART;VALUE=DATE:20260429
DTEND;VALUE=DATE:20260430
UID:312631146185
DESCRIPTION:2026-04-30超弩級チート悪役令嬢の華麗なる復讐
 譚（9）見延 案山子/みなと/割田 コマ講談社
LOCATION:
END:VEVENT
END:VCALENDAR
