BEGIN:VCALENDAR
VERSION:2.0
PRODID:-//chikkutakku.com//RDFCal 1.0//EN
X-WR-CALDESC:GoogleカレンダーやiCalendar形式情報を共有シェ
 アしましょう。近所のイベントから全国のイベントま
 で今日のイベント検索やスケジュールを決めるならち
 っくたっく
X-WR-CALNAME:ちっくたっく
X-WR-TIMEZONE:UTC
BEGIN:VEVENT
SUMMARY:ざんねんないきもの事典(4) #26 「シマウマの父は
 厳しい!?／注目！フクロウの足／♪アロハ！ニコヤカヒ
 メグモ」
DTSTART;VALUE=DATE-TIME:20260424T105500Z
DTEND;VALUE=DATE-TIME:20260424T110000Z
UID:312707688441
DESCRIPTION:26 / シマウマの父は厳しい!?／注目！フクロウ
 の足／♪アロハ！ニコヤカヒメグモ / 
LOCATION:NHK Eテレ
END:VEVENT
END:VCALENDAR
