BEGIN:VCALENDAR
VERSION:2.0
PRODID:-//chikkutakku.com//RDFCal 1.0//EN
X-WR-CALDESC:GoogleカレンダーやiCalendar形式情報を共有シェ
 アしましょう。近所のイベントから全国のイベントま
 で今日のイベント検索やスケジュールを決めるならち
 っくたっく
X-WR-CALNAME:ちっくたっく
X-WR-TIMEZONE:UTC
BEGIN:VEVENT
SUMMARY:中小企業診断士2次試験 事例4の全知識＆全ノウハ
 ウ（2026年改訂版）
DTSTART;VALUE=DATE:20260426
DTEND;VALUE=DATE:20260427
UID:313114855455
DESCRIPTION:2026-04-27中小企業診断士2次試験 事例4の全知識
 ＆全ノウハウ（2026年改訂版）関山春紀/川口紀裕同友館
LOCATION:
END:VEVENT
END:VCALENDAR
