BEGIN:VCALENDAR
VERSION:2.0
PRODID:-//chikkutakku.com//RDFCal 1.0//EN
X-WR-CALDESC:GoogleカレンダーやiCalendar形式情報を共有シェ
 アしましょう。近所のイベントから全国のイベントま
 で今日のイベント検索やスケジュールを決めるならち
 っくたっく
X-WR-CALNAME:ちっくたっく
X-WR-TIMEZONE:UTC
BEGIN:VEVENT
SUMMARY:スコスコ事件簿 我が家は今日もネコ中心に回っ
 ている
DTSTART;VALUE=DATE:20260520
DTEND;VALUE=DATE:20260521
UID:313384665132
DESCRIPTION:2026-05-21スコスコ事件簿 我が家は今日もネコ中
 心に回っているスコスコぽこ太郎ファミリー/山麦 まく
 らKADOKAWA
LOCATION:
END:VEVENT
END:VCALENDAR
