BEGIN:VCALENDAR
VERSION:2.0
PRODID:-//chikkutakku.com//RDFCal 1.0//EN
X-WR-CALDESC:GoogleカレンダーやiCalendar形式情報を共有シェ
 アしましょう。近所のイベントから全国のイベントま
 で今日のイベント検索やスケジュールを決めるならち
 っくたっく
X-WR-CALNAME:ちっくたっく
X-WR-TIMEZONE:UTC
BEGIN:VEVENT
SUMMARY:【注】オーバーロード #1 終わりと始まり / #2 階
 層守護者 / #3 カルネ村の戦い / #4 死の支配者 / #5 二人
 の冒険者 / #6 旅路 / #7 森の賢王 / #8 死を切り裂く双剣 /
  #9 漆黒の戦士 / #10 真祖 / #11 混乱と把握 / #12 鮮血の戦
 乙女 / #13 PVN
DTSTART;VALUE=DATE-TIME:20260425T113000Z
DTEND;VALUE=DATE-TIME:20260425T180000Z
UID:313567316486
DESCRIPTION: / #1 終わりと始まり / #2 階層守護者 / #3 カル
 ネ村の戦い / #4 死の支配者 / #5 二人の冒険者 / #6 旅路 /
  #7 森の賢王 / #8 死を切り裂く双剣 / #9 漆黒の戦士 / #10 
 真祖 / #11 混乱と把握 / #12 鮮血の戦乙女 / #13 PVN / ([[異
 世界・ファンタジー2 https://abema.tv/timetable/channels/isekai-an
 ime-2]]) https://abema.tv/channels/isekai-anime-2/slots/Ah77pSbx2eDjj5 リ
 ピート放送は 27:00～ https://abema.tv/channels/isekai-anime-2/slots
 /Ah77koaKwcD7ZR 、4/26(日) 9:30～ https://abema.tv/channels/isekai-anim
 e-2/slots/AkN7a3Xq3upKf5 (無料TS2週間)
LOCATION:ABEMA特設その他
END:VEVENT
END:VCALENDAR
