BEGIN:VCALENDAR
VERSION:2.0
PRODID:-//chikkutakku.com//RDFCal 1.0//EN
X-WR-CALDESC:GoogleカレンダーやiCalendar形式情報を共有シェ
 アしましょう。近所のイベントから全国のイベントま
 で今日のイベント検索やスケジュールを決めるならち
 っくたっく
X-WR-CALNAME:ちっくたっく
X-WR-TIMEZONE:UTC
BEGIN:VEVENT
SUMMARY:【Android 対応】『オムファタル』性癖トーク＆SM
 ショーフェティッシュバー
DTSTART;VALUE=DATE-TIME:20260423T130000Z
DTEND;VALUE=DATE-TIME:20260423T145900Z
UID:313902793716
DESCRIPTION:【イベント主催者】\n　Jamsanpoid\n【イベント内
 容】\n　密かに抱えた性癖はありませんか？\n性癖につ
 いてお話するフェティッシュバー『オムファタル』で
 は性癖にまつわる話題やお悩みを語ったり聞いたりで
 きる、あなたのもうひとつの居場所です。\n前半と後半
 に分かれ、時間ごとに話題がチェンジ。キャストによ
 るSMショーや月末限定お悩み相談室などのミニイベント
 もお楽しみください。\n【イベントジャンル】\n　その
 他交流会\, 店舗系イベント\, 定期イベント\n【参加条件
 （モデル、人数制限など）】\n　良識ある変態（40人ま
 で）\n【参加方法】\n　22:00になったらJamsanpoidへJoin\n【
 備考】\n　22:00　フォードタイムイベント開始\n23:00　デ
 ィープシータイムイベント開始\n23:10　SMショー開始\n23:
 30　アフタータイム\n24:00　イベント終了
LOCATION:
END:VEVENT
END:VCALENDAR
