BEGIN:VCALENDAR
VERSION:2.0
PRODID:-//chikkutakku.com//RDFCal 1.0//EN
X-WR-CALDESC:GoogleカレンダーやiCalendar形式情報を共有シェ
 アしましょう。近所のイベントから全国のイベントま
 で今日のイベント検索やスケジュールを決めるならち
 っくたっく
X-WR-CALNAME:ちっくたっく
X-WR-TIMEZONE:UTC
BEGIN:VEVENT
SUMMARY:Stórkapping 1 (breyt GP) - Hvirlan 
DTSTART;VALUE=DATE-TIME:20260519T230000Z
DTEND;VALUE=DATE-TIME:20260520T230000Z
UID:314155276471
DESCRIPTION:Stórkapping 1 (breyt GP) - Hvirlan 
LOCATION:
END:VEVENT
END:VCALENDAR
