BEGIN:VCALENDAR
VERSION:2.0
PRODID:-//chikkutakku.com//RDFCal 1.0//EN
X-WR-CALDESC:GoogleカレンダーやiCalendar形式情報を共有シェ
 アしましょう。近所のイベントから全国のイベントま
 で今日のイベント検索やスケジュールを決めるならち
 っくたっく
X-WR-CALNAME:ちっくたっく
X-WR-TIMEZONE:UTC
BEGIN:VEVENT
SUMMARY:【注】名探偵コナン #993 代役・京極真(前編) / #994
  代役・京極真(中編) / #995 代役・京極真(後編) / #996 能
 ある鷹は罪を隠す / #997 スマイルの里の陰謀 / #998 憎し
 みのフライパン / #999 迷惑な親切心
DTSTART;VALUE=DATE-TIME:20260425T100000Z
DTEND;VALUE=DATE-TIME:20260425T133000Z
UID:314380177408
DESCRIPTION: / #993 代役・京極真(前編) / #994 代役・京極真(
 中編) / #995 代役・京極真(後編) / #996 能ある鷹は罪を隠
 す / #997 スマイルの里の陰謀 / #998 憎しみのフライパン 
 / #999 迷惑な親切心 / ([[名探偵コナンチャンネル https://a
 bema.tv/timetable/channels/conan]]) https://abema.tv/channels/conan/slots/
 Ah77or3c5CCwbD リピート放送は ( #993～#1006) 27:00～ https://abem
 a.tv/channels/conan/slots/Ah77kp8hrmoAHD 、4/26(日) 11:00～ https://abe
 ma.tv/channels/conan/slots/Ah77q446YGoM9Z (無料TS1週間) https://prtime
 s.jp/main/html/rd/p/000002640.000064643.html
LOCATION:ABEMA特設その他
END:VEVENT
END:VCALENDAR
