BEGIN:VCALENDAR
VERSION:2.0
PRODID:-//chikkutakku.com//RDFCal 1.0//EN
X-WR-CALDESC:GoogleカレンダーやiCalendar形式情報を共有シェ
 アしましょう。近所のイベントから全国のイベントま
 で今日のイベント検索やスケジュールを決めるならち
 っくたっく
X-WR-CALNAME:ちっくたっく
X-WR-TIMEZONE:UTC
BEGIN:VEVENT
SUMMARY:Cafe Fialette
DTSTART;VALUE=DATE-TIME:20260424T115000Z
DTEND;VALUE=DATE-TIME:20260424T130000Z
UID:314517152124
DESCRIPTION:【イベント主催者】\n　フウカさん\n【イベン
 ト内容】\n　ご主人様（来店されるお客様）2人に対し
 てキャストが1人席についてお話をする15分ローテショ
 ンのメイド＆執事カフェです！3回ローテションがある
 ため、フルタイムで参加されると3人のメイドさんや執
 事さんとお話することが可能です。\nまだスタートした
 ばかりのイベントで身内感もなく、イベントに来られ
 たことのない方にもおすすめできるイベントかと思い
 ます。キャストも話しやすく親しみやすいので楽しく
 お話できます！\n※おひとりでご来店されるご主人様は
 相席をお願いしております。予めご了承の上ご来店を
 お願いします。\n【イベントジャンル】\n　店舗系イベ
 ント\n【参加条件（モデル、人数制限など）】\n　50MB以
 下、人数制限10人\n【参加方法】\n　https://vrc.group/CBFIA.52
 51\nこちらのグループに参加後、開始時間にグループイ
 ンスタンスに参加してください！VRC側で検索をかける
 場合は「Fialette」で検索をかけると出てくるかと思いま
 す。\n【備考】\n　公式Twitter（X）はこちらです\nhttps://x
 .com/cb_fialette?s=21\n営業情報や広報を発信しておりますの
 で、雰囲気をつかみたい方はぜひ見てみてください♪
LOCATION:
END:VEVENT
END:VCALENDAR
