BEGIN:VCALENDAR
VERSION:2.0
PRODID:-//chikkutakku.com//RDFCal 1.0//EN
X-WR-CALDESC:GoogleカレンダーやiCalendar形式情報を共有シェ
 アしましょう。近所のイベントから全国のイベントま
 で今日のイベント検索やスケジュールを決めるならち
 っくたっく
X-WR-CALNAME:ちっくたっく
X-WR-TIMEZONE:UTC
BEGIN:VEVENT
SUMMARY:OD聖書外典偽典（第6巻）
DTSTART;VALUE=DATE:20260521
DTEND;VALUE=DATE:20260522
UID:315442916862
DESCRIPTION:2026-05-22OD聖書外典偽典（第6巻）日本聖書学研
 究所教文館
LOCATION:
END:VEVENT
END:VCALENDAR
