BEGIN:VCALENDAR
VERSION:2.0
PRODID:-//chikkutakku.com//RDFCal 1.0//EN
X-WR-CALDESC:GoogleカレンダーやiCalendar形式情報を共有シェ
 アしましょう。近所のイベントから全国のイベントま
 で今日のイベント検索やスケジュールを決めるならち
 っくたっく
X-WR-CALNAME:ちっくたっく
X-WR-TIMEZONE:UTC
BEGIN:VEVENT
SUMMARY:独占欲に火がついた御曹司が溺愛猛追で鉄壁ガー
 ドを崩してきます
DTSTART;VALUE=DATE:20260508
DTEND;VALUE=DATE:20260509
UID:316113803825
DESCRIPTION:2026-05-09独占欲に火がついた御曹司が溺愛猛追
 で鉄壁ガードを崩してきます鞠坂小鞠/村上晶スターツ
 出版
LOCATION:
END:VEVENT
END:VCALENDAR
