BEGIN:VCALENDAR
VERSION:2.0
PRODID:-//chikkutakku.com//RDFCal 1.0//EN
X-WR-CALDESC:GoogleカレンダーやiCalendar形式情報を共有シェ
 アしましょう。近所のイベントから全国のイベントま
 で今日のイベント検索やスケジュールを決めるならち
 っくたっく
X-WR-CALNAME:ちっくたっく
X-WR-TIMEZONE:UTC
BEGIN:VEVENT
SUMMARY:みみのこオークションⅡ
DTSTART;VALUE=DATE-TIME:20260424T130000Z
DTEND;VALUE=DATE-TIME:20260424T143000Z
UID:316374428301
DESCRIPTION:【イベント主催者】\n　かじPENYO\n【イベント
 内容】\n　みみのこ達を商品とした高級オークション会
 場でのRPイベント。\n「さぁ、哀れで可愛い"商品"を貴
 方の物に……」\n\n【イベントジャンル】\n　ロールプ
 レイ\n【参加条件（モデル、人数制限など）】\n　・参
 加上限16人\n・容量上限30MB以下\n・人型アバター（みみ
 のこNG)\n・ドレスコード：スマートエレガンス/カジュ
 アルエレガンス\n　高級オークション会場にいて違和感
 のない服装。RPがある方はそれに沿った改変。\n\n・イ
 ベント内の録画・配信はお控えください。ご希望の方
 は事前に主催にご相談ください。\n・過度なパーティク
 ルおよびギミックはお控えください。\n・アバターにラ
 イトギミックやワールド固定ギミックは組み込まない
 でください。\n・みみのこの耳を抜かないでください。
 \n\n・イベントの進行妨害と判断される言動およびキャ
 ストへの行き過ぎた表現（NSFW）等は禁止します。\n【
 参加方法】\n　21；30になったら「かじPENYO」にインバイ
 トリクエスト。\n申請は1度のみでお願いいたします。\n
 【備考】\n　詳細は後日@mimi_HHCのXにてポストされるツ
 イートをご確認ください。
LOCATION:
END:VEVENT
END:VCALENDAR
