BEGIN:VCALENDAR
VERSION:2.0
PRODID:-//chikkutakku.com//RDFCal 1.0//EN
X-WR-CALDESC:GoogleカレンダーやiCalendar形式情報を共有シェ
 アしましょう。近所のイベントから全国のイベントま
 で今日のイベント検索やスケジュールを決めるならち
 っくたっく
X-WR-CALNAME:ちっくたっく
X-WR-TIMEZONE:UTC
BEGIN:VEVENT
SUMMARY:【Android 対応】火曜遠撃部【第20回】
DTSTART;VALUE=DATE-TIME:20260421T115000Z
DTEND;VALUE=DATE-TIME:20260421T130000Z
UID:316651084031
DESCRIPTION:【イベント主催者】\n　楠ウッディー\n【イベ
 ント内容】\n　シューティングワールドで遊ぶイベント
 です！\n今回は「pluslatte's Nameless Shooting Battle」で遊びま
 す！\n【イベントジャンル】\n　定期イベント\n【参加
 条件（モデル、人数制限など）】\n　\n【参加方法】\n
 　グループに参加して時間になったらグループインス
 タンスにJoin！\nhttps://vrc.group/ENGEKI.1458\n【備考】\n　
LOCATION:
END:VEVENT
END:VCALENDAR
