BEGIN:VCALENDAR
VERSION:2.0
PRODID:-//chikkutakku.com//RDFCal 1.0//EN
X-WR-CALDESC:GoogleカレンダーやiCalendar形式情報を共有シェ
 アしましょう。近所のイベントから全国のイベントま
 で今日のイベント検索やスケジュールを決めるならち
 っくたっく
X-WR-CALNAME:ちっくたっく
X-WR-TIMEZONE:UTC
BEGIN:VEVENT
SUMMARY:U15、紅白戦
DTSTART;VALUE=DATE-TIME:20260422T100000Z
DTEND;VALUE=DATE-TIME:20260422T120000Z
UID:317722316068
DESCRIPTION:※現地集合現地解散\n\n※S6\n\n※アップは済ま
 せておくこと\n\n※U15-1st.2nd全員
LOCATION:J-GREEN堺\, 日本、〒590-0901 大阪府堺市堺区築港八
 幡町１４５
END:VEVENT
END:VCALENDAR
