BEGIN:VCALENDAR
VERSION:2.0
PRODID:-//chikkutakku.com//RDFCal 1.0//EN
X-WR-CALDESC:GoogleカレンダーやiCalendar形式情報を共有シェ
 アしましょう。近所のイベントから全国のイベントま
 で今日のイベント検索やスケジュールを決めるならち
 っくたっく
X-WR-CALNAME:ちっくたっく
X-WR-TIMEZONE:UTC
BEGIN:VEVENT
SUMMARY:【注】治癒魔法の間違った使い方 #1 巻き込まれ
 て異世界！ / #2 地獄の始まり！ / #3 過酷！リングルの
 闇！ / #4 救命団員ウサト！ / #5 ウサト、再び森へ！ / #6
  迫り来る危機……！ / #7 決意の夜！ / #8 大隊長ローズ 
 / #9 終わりと始まり / #10 最狂!?黒騎士現る！ / #11 炸裂
 ！必生の拳！ / #12 黒騎士の素顔！ / #13 旅立ち！
DTSTART;VALUE=DATE-TIME:20260424T220000Z
DTEND;VALUE=DATE-TIME:20260425T043000Z
UID:318100910566
DESCRIPTION: / #1 巻き込まれて異世界！ / #2 地獄の始まり
 ！ / #3 過酷！リングルの闇！ / #4 救命団員ウサト！ / #5
  ウサト、再び森へ！ / #6 迫り来る危機……！ / #7 決意
 の夜！ / #8 大隊長ローズ / #9 終わりと始まり / #10 最狂!
 ?黒騎士現る！ / #11 炸裂！必生の拳！ / #12 黒騎士の素
 顔！ / #13 旅立ち！ / ([[異世界・ファンタジー3 https://abe
 ma.tv/timetable/channels/isekai-anime-3]]) https://abema.tv/channels/iseka
 i-anime-3/slots/AkN7Z8Pz6m5hMR (無料TS1週間) ※リピート放送な
 し
LOCATION:ABEMA特設その他
END:VEVENT
END:VCALENDAR
