BEGIN:VCALENDAR
VERSION:2.0
PRODID:-//chikkutakku.com//RDFCal 1.0//EN
X-WR-CALDESC:GoogleカレンダーやiCalendar形式情報を共有シェ
 アしましょう。近所のイベントから全国のイベントま
 で今日のイベント検索やスケジュールを決めるならち
 っくたっく
X-WR-CALNAME:ちっくたっく
X-WR-TIMEZONE:UTC
BEGIN:VEVENT
SUMMARY:クラスで2番目に可愛い女の子と友だちになった #
 4
DTSTART;VALUE=DATE-TIME:20260504T123000Z
DTEND;VALUE=DATE-TIME:20260504T130000Z
UID:318618839042
DESCRIPTION:4 /  / 
LOCATION:AT-X
END:VEVENT
END:VCALENDAR
