BEGIN:VCALENDAR
VERSION:2.0
PRODID:-//chikkutakku.com//RDFCal 1.0//EN
X-WR-CALDESC:GoogleカレンダーやiCalendar形式情報を共有シェ
 アしましょう。近所のイベントから全国のイベントま
 で今日のイベント検索やスケジュールを決めるならち
 っくたっく
X-WR-CALNAME:ちっくたっく
X-WR-TIMEZONE:UTC
BEGIN:VEVENT
SUMMARY:🎙️ツインギター
DTSTART;VALUE=DATE-TIME:20260522T120000Z
DTEND;VALUE=DATE-TIME:20260522T130000Z
UID:319216937720
DESCRIPTION:・開場20:45/開演21:00\n・前売¥2\,000/当日¥2\,500/
 配信¥1\,300
LOCATION:渋谷よしもと漫才劇場\, 日本、〒150-0042 東京都
 渋谷区宇田川町３１−２
END:VEVENT
END:VCALENDAR
