BEGIN:VCALENDAR
VERSION:2.0
PRODID:-//chikkutakku.com//RDFCal 1.0//EN
X-WR-CALDESC:GoogleカレンダーやiCalendar形式情報を共有シェ
 アしましょう。近所のイベントから全国のイベントま
 で今日のイベント検索やスケジュールを決めるならち
 っくたっく
X-WR-CALNAME:ちっくたっく
X-WR-TIMEZONE:UTC
BEGIN:VEVENT
SUMMARY:Year 10 PED2 Excursion - Golf Driving Range
DTSTART;VALUE=DATE-TIME:20260508T005000Z
DTEND;VALUE=DATE-TIME:20260508T024700Z
UID:319234498353
DESCRIPTION:Organised by Dean Hendrikx
LOCATION:420 Pine Mountain Rd\, Carindale QLD 4152\, Australia
END:VEVENT
END:VCALENDAR
