BEGIN:VCALENDAR
VERSION:2.0
PRODID:-//chikkutakku.com//RDFCal 1.0//EN
X-WR-CALDESC:GoogleカレンダーやiCalendar形式情報を共有シェ
 アしましょう。近所のイベントから全国のイベントま
 で今日のイベント検索やスケジュールを決めるならち
 っくたっく
X-WR-CALNAME:ちっくたっく
X-WR-TIMEZONE:UTC
BEGIN:VEVENT
SUMMARY:Spring Game Pep Band
DTSTART;VALUE=DATE-TIME:20260430T213000Z
DTEND;VALUE=DATE-TIME:20260430T223000Z
UID:319549858397
DESCRIPTION:Period 5 = 5 Minutes (4:55 - 5:00pm)\n○ Band = Fight Song at
  4:55pm\n○ ROTC = Flags enter the field at 4:56pm (Scoreboard Side)\n○
  Band = National Anthem at 4:57pm\n○ ROTC = Flags exit the field at conc
 lusion of National Anthem (School Side)
LOCATION:
END:VEVENT
END:VCALENDAR
