BEGIN:VCALENDAR
VERSION:2.0
PRODID:-//chikkutakku.com//RDFCal 1.0//EN
X-WR-CALDESC:GoogleカレンダーやiCalendar形式情報を共有シェ
 アしましょう。近所のイベントから全国のイベントま
 で今日のイベント検索やスケジュールを決めるならち
 っくたっく
X-WR-CALNAME:ちっくたっく
X-WR-TIMEZONE:UTC
BEGIN:VEVENT
SUMMARY:【油】レギュレーション飲み会（雑飲み会）
DTSTART;VALUE=DATE-TIME:20260424T123000Z
DTEND;VALUE=DATE-TIME:20260424T140000Z
UID:319893696734
DESCRIPTION:【イベント主催者】\n　aroearoe\n【イベント内
 容】\n　　・決まったお題でお酒、おつまみなんかを一
 緒に食べるイベントです。\n　・ 隔週金曜日開催。\n　
 ・今回のお題は【油】です。\n　　とうとうお題が食べ
 物でも飲み物でもなく調味料に……\n　　アヒージョと
 か、から揚げとか、ポテチとか、そんな感じの油を感
 じる食べ物で飲みます。\n　・次回のお題はイベント中
 、投票でゆるっと決まります。 食べ物だったり、お酒
 だったり……とんでもねぇお題も受け付けます。\n\n　
 　 いつも買わないようなちょっといいものを買ったり
 、同じものを食べながら 雑にお話をしませんか？\n\n【
 イベントジャンル】\n　VR飲み会\n【参加条件（モデル
 、人数制限など）】\n　　特になし。デスクトップモー
 ドでも大丈夫。\n雑にお話したい人、歓迎です。\n※お
 題は共通話題的な意味合いなので特に守る必要はなく
 、お好きにお越しください。\n\n【参加方法】\n　　イ
 ベント参加者へjoinするか、グループにどうぞ。\nグル
 ープURL：https://vrchat.com/home/group/grp_0cc39f71-c176-433e-a69d-c3d0
 65e4b4f1\n【備考】\n　　グループ主X(旧Twitter)アカウント
 　⇒　https://vrchat.com/home/user/usr_cef245a2-878c-4a74-aec2-79ae8c16
 b5dc
LOCATION:
END:VEVENT
END:VCALENDAR
