BEGIN:VCALENDAR
VERSION:2.0
PRODID:-//chikkutakku.com//RDFCal 1.0//EN
X-WR-CALDESC:GoogleカレンダーやiCalendar形式情報を共有シェ
 アしましょう。近所のイベントから全国のイベントま
 で今日のイベント検索やスケジュールを決めるならち
 っくたっく
X-WR-CALNAME:ちっくたっく
X-WR-TIMEZONE:UTC
BEGIN:VEVENT
SUMMARY:CAFEBAL 朧 OBORO-3899- 【通常営業日】
DTSTART;VALUE=DATE-TIME:20260421T130000Z
DTEND;VALUE=DATE-TIME:20260421T140000Z
UID:320117227523
DESCRIPTION:【イベント主催者】\n　あゆぴ。\n【イベント
 内容】\n　◇ 通常営業日\n\n　\\ 息抜きに一杯どうです
 か？ /\n～偶然の会話や出会いを楽しむ～\nカフェバル
 スタイルのひととき。\n\nふらっと立ち寄れるラフな明
 るい店内！\nカウンター・テーブル席ご用意しておりま
 す。 \n\n本日のおすすめやちょっとしたお食事も\n楽し
 めます！\n\nスタッフも店内を巡回しておりますので、\
 n是非、お気軽にお越しください！\n\n雰囲気が気になる
 方はXをチェック！\n\n◇営業日\n第1・3 金曜日 / 第2・4 
 火曜日\n※４月の火曜営業日は7日・21日\n22:00-23:00 で営
 業します。\n特別営業はグループにてお知らせいたしま
 す。\n【イベントジャンル】\n　店舗系イベント\, 初心
 者向けイベント\, 定期イベント\n【参加条件（モデル、
 人数制限など）】\n　１８名（スタッフ含）\n\n◇ご来
 店予定のお客様へ \n・当店は固定接客ではありません 
 。\n・入口から店内の様子が見えます。\n→必要な方は
 カリング設定をしてお越しください。\n・35MB以下のア
 バターでご来店ください。\n・スタッフへのフレンド申
 請は禁止です。\n\n※その他にも注意事項等ございます
 ので\n　グループ概要やルールを確認の上、ご来店くだ
 さい。\n【参加方法】\n　◇グループ＋で営業いたしま
 す！\n「朧 OBORO-3899- (3899.8827)」 へ参加いただくか\nすで
 にグループ参加している方とご来店ください。\n\n22:00
 になりましたらJoinしてください！\nOPEN通知でお知らせ
 いたします。\n【備考】\n　　【GROUP】\nhttps://vrc.group/389
 9.8827\n【X（旧Twitter）】\nhttps://x.com/OBORO_3899
LOCATION:
END:VEVENT
END:VCALENDAR
