BEGIN:VCALENDAR
VERSION:2.0
PRODID:-//chikkutakku.com//RDFCal 1.0//EN
X-WR-CALDESC:GoogleカレンダーやiCalendar形式情報を共有シェ
 アしましょう。近所のイベントから全国のイベントま
 で今日のイベント検索やスケジュールを決めるならち
 っくたっく
X-WR-CALNAME:ちっくたっく
X-WR-TIMEZONE:UTC
BEGIN:VEVENT
SUMMARY:【三重】顔タイプ診断ご予約ありがとうございま
 す
DTSTART;VALUE=DATE:20260424
DTEND;VALUE=DATE:20260425
UID:320193654947
DESCRIPTION:【三重】顔タイプ診断ご予約ありがとうござ
 います
LOCATION:
END:VEVENT
END:VCALENDAR
