BEGIN:VCALENDAR
VERSION:2.0
PRODID:-//chikkutakku.com//RDFCal 1.0//EN
X-WR-CALDESC:GoogleカレンダーやiCalendar形式情報を共有シェ
 アしましょう。近所のイベントから全国のイベントま
 で今日のイベント検索やスケジュールを決めるならち
 っくたっく
X-WR-CALNAME:ちっくたっく
X-WR-TIMEZONE:UTC
BEGIN:VEVENT
SUMMARY:法学部ゼミ ハンドブック
DTSTART;VALUE=DATE:20260429
DTEND;VALUE=DATE:20260430
UID:320781632442
DESCRIPTION:2026-04-30法学部ゼミ ハンドブック松原 孝明/奥
 田 菜津/堀川 信一尚学社
LOCATION:
END:VEVENT
END:VCALENDAR
