BEGIN:VCALENDAR
VERSION:2.0
PRODID:-//chikkutakku.com//RDFCal 1.0//EN
X-WR-CALDESC:GoogleカレンダーやiCalendar形式情報を共有シェ
 アしましょう。近所のイベントから全国のイベントま
 で今日のイベント検索やスケジュールを決めるならち
 っくたっく
X-WR-CALNAME:ちっくたっく
X-WR-TIMEZONE:UTC
BEGIN:VEVENT
SUMMARY:11:25押忍フェス
DTSTART;VALUE=DATE:20260424
DTEND;VALUE=DATE:20260425
UID:322405671927
DESCRIPTION:4月25日(土)湊町リバープレイス「押忍フェス」
 START 11:25-17:40 観覧無料！撮影チケット:1\,000円&lt\;要返
 却&gt\;※スマホでの撮影は無料です優先エリア観覧チケ
 ット:1\,000円“推す”チケット:1\,000円(推しからのサイ
 ン入り色紙プレゼント)出演:HIGH SPY DOLL / Nody / naniwairo / L
 INK START / いざ参らん / 皐月かえで / モードラ / 利根さ
 やな / your fave / Unity / bae&lt\;3 / ちぃたん☆ぼんぼーずOSK
  / ふう♫りん / GLUES / プラリオン / Lunouir Tiara / FairyDOLLS 
 OSAKA / and more!!
LOCATION:
END:VEVENT
END:VCALENDAR
