BEGIN:VCALENDAR
VERSION:2.0
PRODID:-//chikkutakku.com//RDFCal 1.0//EN
X-WR-CALDESC:GoogleカレンダーやiCalendar形式情報を共有シェ
 アしましょう。近所のイベントから全国のイベントま
 で今日のイベント検索やスケジュールを決めるならち
 っくたっく
X-WR-CALNAME:ちっくたっく
X-WR-TIMEZONE:UTC
BEGIN:VEVENT
SUMMARY:転生したら悪役令嬢……の双子の妹なのに追放さ
 れて隣国の王子に溺愛されています
DTSTART;VALUE=DATE:20260521
DTEND;VALUE=DATE:20260522
UID:322421106622
DESCRIPTION:2026-05-22転生したら悪役令嬢……の双子の妹な
 のに追放されて隣国の王子に溺愛されています麻生ミ
 カリ/緒方剛志竹書房
LOCATION:
END:VEVENT
END:VCALENDAR
