BEGIN:VCALENDAR
VERSION:2.0
PRODID:-//chikkutakku.com//RDFCal 1.0//EN
X-WR-CALDESC:GoogleカレンダーやiCalendar形式情報を共有シェ
 アしましょう。近所のイベントから全国のイベントま
 で今日のイベント検索やスケジュールを決めるならち
 っくたっく
X-WR-CALNAME:ちっくたっく
X-WR-TIMEZONE:UTC
BEGIN:VEVENT
SUMMARY:ผอ.จารุวรรณ + ผอ.อมร เข้าร
 ่วมโครงการฝึกอบรมหลักสูต
 รเสริมสมรรถนะผู้อำนวยการ
 กลุ่มงาน สำนักงานพัฒนาชุม
 ชนจังหวัดและส่วนกลาง ณ วิท
 ยาลัยการพัฒนาชุมชน อำเภอบ
 างละมุง จังหวัดชลบุรี
DTSTART;VALUE=DATE:20260420
DTEND;VALUE=DATE:20260423
UID:322488906682
DESCRIPTION:ผอ.จารุวรรณ + ผอ.อมร เข้
 าร่วมโครงการฝึกอบรมหลักส
 ูตรเสริมสมรรถนะผู้อำนวยก
 ารกลุ่มงาน สำนักงานพัฒนาช
 ุมชนจังหวัดและส่วนกลาง ณ ว
 ิทยาลัยการพัฒนาชุมชน อำเภ
 อบางละมุง จังหวัดชลบุรี
LOCATION:
END:VEVENT
END:VCALENDAR
