BEGIN:VCALENDAR
VERSION:2.0
PRODID:-//chikkutakku.com//RDFCal 1.0//EN
X-WR-CALDESC:GoogleカレンダーやiCalendar形式情報を共有シェ
 アしましょう。近所のイベントから全国のイベントま
 で今日のイベント検索やスケジュールを決めるならち
 っくたっく
X-WR-CALNAME:ちっくたっく
X-WR-TIMEZONE:UTC
BEGIN:VEVENT
SUMMARY:谷川史郎(G)セッション@新宿御苑サウンド
DTSTART;VALUE=DATE:20260505
DTEND;VALUE=DATE:20260506
UID:322625864208
DESCRIPTION:谷川史郎(G)セッション\n松川純一郎(G)\n澤田浩
 史(B)\n井上ｲﾉﾔﾝ尚彦(Dr)
LOCATION:新宿 御苑サウンド\, 日本、〒160-0022 東京都新宿
 区新宿２丁目３−１２ 光和ビル B1F
END:VEVENT
END:VCALENDAR
