BEGIN:VCALENDAR
VERSION:2.0
PRODID:-//chikkutakku.com//RDFCal 1.0//EN
X-WR-CALDESC:GoogleカレンダーやiCalendar形式情報を共有シェ
 アしましょう。近所のイベントから全国のイベントま
 で今日のイベント検索やスケジュールを決めるならち
 っくたっく
X-WR-CALNAME:ちっくたっく
X-WR-TIMEZONE:UTC
BEGIN:VEVENT
SUMMARY:『僕のヒーローアカデミア』FINAL SEASON Blu-ray Vol.2 
 初回生産限定版【Blu-ray】
DTSTART;VALUE=DATE:20260519
DTEND;VALUE=DATE:20260520
UID:322743207260
DESCRIPTION:2026-05-20『僕のヒーローアカデミア』FINAL SEASON 
 Blu-ray Vol.2 初回生産限定版【Blu-ray】堀越耕平/山下大輝/
 三宅健太/内山昂輝/大塚明夫/馬越嘉彦/小田嶋瞳/林ゆう
 き東宝(株)
LOCATION:
END:VEVENT
END:VCALENDAR
